BEGIN:VCALENDAR
VERSION:2.0
PRODID:-//Tukios.com/
BEGIN:VEVENT
UID:c3cd788c-b7a6-4688-be04-1f1e7cb2fb1a@www.johnston-williams.com
DTSTAMP:20260422T214817Z
DTSTART:20260509T210000Z
DTEND:20260509T220000Z
SUMMARY:Funeral Service
DESCRIPTION:
URL:https://www.johnston-williams.com/obituaries/mark-kramer
LOCATION:Garfield-Palouse High School Gym 600 E. Alder  Palouse WA 99161
GEO:46.9126636;-117.0710878
END:VEVENT
END:VCALENDAR