BEGIN:VCALENDAR
VERSION:2.0
PRODID:-//Tukios.com/
BEGIN:VEVENT
UID:9866a1fe-5d26-493a-be2f-919c03a2819c@www.johnston-williams.com
DTSTAMP:20260422T214315Z
DTSTART:20260508T170000Z
DTEND:20260509T020000Z
SUMMARY:Viewing
DESCRIPTION:
URL:https://www.johnston-williams.com/obituaries/mark-kramer
LOCATION:Kramer Funeral Home 203 N. Bridge Street  Palouse WA 99161
GEO:46.9106732;-117.0772596
END:VEVENT
END:VCALENDAR