BEGIN:VCALENDAR
VERSION:2.0
PRODID:-//Tukios.com/
BEGIN:VEVENT
UID:1baf8d88-e9c0-4a10-9e2b-57a5b10dd91e@www.johnston-williams.com
DTSTAMP:20260425T214936Z
DTSTART:20260509T210000Z
DTEND:20260509T220000Z
SUMMARY:Celebration of Life
DESCRIPTION:
URL:https://www.johnston-williams.com/obituaries/delores-kauzlarich
LOCATION: 107 N 2nd St  Roslyn WA 98941
GEO:47.223301;-120.995022
END:VEVENT
END:VCALENDAR